BEGIN:VCALENDAR
VERSION:2.0
PRODID:-//Plone.org//NONSGML plone.app.event//EN
X-WR-TIMEZONE:Europe/Madrid
BEGIN:VEVENT
SUMMARY:Exposició fotogràfica
DTSTART;TZID=Europe/Madrid;VALUE=DATE-TIME:20041001T000000
DTEND;TZID=Europe/Madrid;VALUE=DATE-TIME:20041001T010000
DTSTAMP;VALUE=DATE-TIME:20260422T034704Z
UID:e6e3537e026c5e815c6242fd16087c71
CREATED;VALUE=DATE-TIME:20041001T000000Z
CATEGORIES:Exposició
LOCATION:Calisay/Sala exposicions
ORGANIZER:Regidoria de Cultura i
AFA

COMMENT:Durada: fins al 31 d'octubre
DESCRIPTION:1r Concurs de Fotografia Sant Zenon i Sant Roc Arenys de Mar 2004
URL:https://arenysdemar.cat/document.php?id=12774
END:VEVENT
END:VCALENDAR