BEGIN:VCALENDAR
VERSION:2.0
PRODID:-//Plone.org//NONSGML plone.app.event//EN
X-WR-TIMEZONE:Europe/Madrid
BEGIN:VEVENT
SUMMARY:Exposició fotogràfica
DTSTART;TZID=Europe/Madrid;VALUE=DATE-TIME:20040519T000000
DTEND;TZID=Europe/Madrid;VALUE=DATE-TIME:20040519T010000
DTSTAMP;VALUE=DATE-TIME:20260421T032501Z
UID:2c6d74f8d55c999317b984468eab6ee5
CREATED;VALUE=DATE-TIME:20040519T000000Z
CATEGORIES:Exposició
LOCATION:Casal de Joventut Seràfica (local AFA)
ORGANIZER:
Agrupació Fotogràfica d'Arenys de Mar

COMMENT:Durada: fins al 2 de juny, tots els dimecres de 9 a 10 del vespre
DESCRIPTION:Treballs de la 1a. Lliga Social de Fotografia 2004 (5è. lliurament)
URL:https://arenysdemar.cat/document.php?id=12893
END:VEVENT
END:VCALENDAR