BEGIN:VCALENDAR
VERSION:2.0
PRODID:-//Plone.org//NONSGML plone.app.event//EN
X-WR-TIMEZONE:Europe/Madrid
BEGIN:VEVENT
SUMMARY:Dijous Sardanes
DTSTART;TZID=Europe/Madrid;VALUE=DATE-TIME:20040715T193000
DTEND;TZID=Europe/Madrid;VALUE=DATE-TIME:20040715T203000
DTSTAMP;VALUE=DATE-TIME:20260424T143743Z
UID:d8734865424e7804fbc032f65e576453
CREATED;VALUE=DATE-TIME:20040715T000000Z
CATEGORIES:Dansa
LOCATION:Plaça de l'Església
ORGANIZER:Reg. de Cultura i la secció sardanista de l'
Ateneu Arenyenc

DESCRIPTION:a càrrec de la Cobla Premianenca
URL:https://arenysdemar.cat/document.php?id=13009
END:VEVENT
END:VCALENDAR