BEGIN:VCALENDAR
VERSION:2.0
PRODID:-//Plone.org//NONSGML plone.app.event//EN
X-WR-TIMEZONE:Europe/Madrid
BEGIN:VEVENT
SUMMARY:Dijous Sardanes
DTSTART;TZID=Europe/Madrid;VALUE=DATE-TIME:20040805T193000
DTEND;TZID=Europe/Madrid;VALUE=DATE-TIME:20040805T203000
DTSTAMP;VALUE=DATE-TIME:20260424T182657Z
UID:4d06385088f55de811d11b59e8952a5b
CREATED;VALUE=DATE-TIME:20040805T000000Z
CATEGORIES:Dansa
LOCATION:Plaça de l'Església
ORGANIZER:Reg. de Cultura i la secció sardanista de l'
Ateneu Arenyenc

DESCRIPTION:a càrrec de la cobla Premianenca
URL:https://arenysdemar.cat/document.php?id=13012
END:VEVENT
END:VCALENDAR