BEGIN:VCALENDAR
VERSION:2.0
PRODID:-//Plone.org//NONSGML plone.app.event//EN
X-WR-TIMEZONE:Europe/Madrid
BEGIN:VEVENT
SUMMARY:Concurs de colles improvisades amb la cobla Ciutat de Mataró
DTSTART;TZID=Europe/Madrid;VALUE=DATE-TIME:20040815T220000
DTEND;TZID=Europe/Madrid;VALUE=DATE-TIME:20040815T230000
DTSTAMP;VALUE=DATE-TIME:20260424T213702Z
UID:e3dc5223e80ca22ae4f44c85a9ad04db
CREATED;VALUE=DATE-TIME:20040815T000000Z
LOCATION:Plaça de l'Església
ORGANIZER:Reg. de Cultura i la secció sardanista de l'
Ateneu Arenyenc

DESCRIPTION:Sant Roc 2004
URL:https://arenysdemar.cat/document.php?id=13014
END:VEVENT
END:VCALENDAR