BEGIN:VCALENDAR
VERSION:2.0
PRODID:-//Plone.org//NONSGML plone.app.event//EN
X-WR-TIMEZONE:Europe/Madrid
BEGIN:VEVENT
SUMMARY:13è Festival de Jazz d'Arenys de Mar
DTSTART;TZID=Europe/Madrid;VALUE=DATE-TIME:20040806T230000
DTEND;TZID=Europe/Madrid;VALUE=DATE-TIME:20040807T000000
DTSTAMP;VALUE=DATE-TIME:20260424T213730Z
UID:2dbb25a86a499c80b98677f18a816f54
CREATED;VALUE=DATE-TIME:20040806T000000Z
CATEGORIES:Música
LOCATION:Calisay/Pati
ORGANIZER:Regidoria de Cultura i OCR
COMMENT:Preu: 4 &euro;
DESCRIPTION:Adele Lee Davis & her blues band
URL:https://arenysdemar.cat/document.php?id=13068
END:VEVENT
END:VCALENDAR