BEGIN:VCALENDAR
VERSION:2.0
PRODID:-//Plone.org//NONSGML plone.app.event//EN
X-WR-TIMEZONE:Europe/Madrid
BEGIN:VEVENT
SUMMARY:Ofici solemne en honor de Sant Roc
DTSTART;TZID=Europe/Madrid;VALUE=DATE-TIME:20040816T190000
DTEND;TZID=Europe/Madrid;VALUE=DATE-TIME:20040816T200000
DTSTAMP;VALUE=DATE-TIME:20260424T214120Z
UID:5e3278b0b6002c63158ea658ffdf63dd
CREATED;VALUE=DATE-TIME:20040816T000000Z
LOCATION:Església de Santa Maria
ORGANIZER:Parròquia de Santa Maria
DESCRIPTION:Sant Roc 2004
URL:https://arenysdemar.cat/document.php?id=13261
END:VEVENT
END:VCALENDAR