BEGIN:VCALENDAR
VERSION:2.0
PRODID:-//Plone.org//NONSGML plone.app.event//EN
X-WR-TIMEZONE:Europe/Madrid
BEGIN:VEVENT
SUMMARY:Ofrena dels macips i captadores a Sant Roc i cantada de goigs
DTSTART;TZID=Europe/Madrid;VALUE=DATE-TIME:20040816T080000
DTEND;TZID=Europe/Madrid;VALUE=DATE-TIME:20040816T090000
DTSTAMP;VALUE=DATE-TIME:20260424T144102Z
UID:c35f2643142013ae25340d8260f0a02e
CREATED;VALUE=DATE-TIME:20040816T000000Z
LOCATION:Església de Santa Maria
ORGANIZER:Germandat de Sant Roc
DESCRIPTION:Sant Roc 2004
URL:https://arenysdemar.cat/document.php?id=13262
END:VEVENT
END:VCALENDAR