BEGIN:VCALENDAR
VERSION:2.0
PRODID:-//Plone.org//NONSGML plone.app.event//EN
X-WR-TIMEZONE:Europe/Madrid
BEGIN:VEVENT
SUMMARY:Audició curta de sardanes
DTSTART;TZID=Europe/Madrid;VALUE=DATE-TIME:20040816T203000
DTEND;TZID=Europe/Madrid;VALUE=DATE-TIME:20040816T213000
DTSTAMP;VALUE=DATE-TIME:20260424T195848Z
UID:ecd4cef878be34220b3af4d01e7f187f
CREATED;VALUE=DATE-TIME:20040816T000000Z
CATEGORIES:Dansa
LOCATION:Plaça de l'Església
ORGANIZER:Regidoria de Cultura
DESCRIPTION:Sant Roc 2004
URL:https://arenysdemar.cat/document.php?id=13264
END:VEVENT
END:VCALENDAR