BEGIN:VCALENDAR
VERSION:2.0
PRODID:-//Plone.org//NONSGML plone.app.event//EN
X-WR-TIMEZONE:Europe/Madrid
BEGIN:VEVENT
SUMMARY:Festa al carrer de la Torre
DTSTART;TZID=Europe/Madrid;VALUE=DATE-TIME:20040723T000000
DTEND;TZID=Europe/Madrid;VALUE=DATE-TIME:20040723T010000
DTSTAMP;VALUE=DATE-TIME:20260424T125854Z
UID:8c2eaf0aa05f71df6d7c261ae6189d06
CREATED;VALUE=DATE-TIME:20040723T000000Z
CATEGORIES:Festa
LOCATION:Carrer de la Torre
ORGANIZER:Comissió de festes del carrer de la Torre
COMMENT:Durada: També el 24 de juliol de 2004
URL:https://arenysdemar.cat/document.php?id=13356
END:VEVENT
END:VCALENDAR