BEGIN:VCALENDAR
VERSION:2.0
PRODID:-//Plone.org//NONSGML plone.app.event//EN
X-WR-TIMEZONE:Europe/Madrid
BEGIN:VEVENT
SUMMARY:Festa d'Aniversari de l'Ateneu Arenyenc
DTSTART;TZID=Europe/Madrid;VALUE=DATE-TIME:20040909T000000
DTEND;TZID=Europe/Madrid;VALUE=DATE-TIME:20040909T010000
DTSTAMP;VALUE=DATE-TIME:20260422T070613Z
UID:b92c480df1e4cee81a47de1d5ae546e8
CREATED;VALUE=DATE-TIME:20040909T000000Z
CATEGORIES:Festa
LOCATION:Carrer Anselm Clavé
ORGANIZER:Ateneu Arenyenc
COMMENT:Durada: Fins al 12 de setembre de 2004
URL:https://arenysdemar.cat/document.php?id=13357
END:VEVENT
END:VCALENDAR