BEGIN:VCALENDAR
VERSION:2.0
PRODID:-//Plone.org//NONSGML plone.app.event//EN
X-WR-TIMEZONE:Europe/Madrid
BEGIN:VEVENT
SUMMARY:1r Concurs de fotografia de Sant Zenon i Sant Roc 2004
DTSTART;TZID=Europe/Madrid;VALUE=DATE-TIME:20040814T000000
DTEND;TZID=Europe/Madrid;VALUE=DATE-TIME:20040814T010000
DTSTAMP;VALUE=DATE-TIME:20260424T200105Z
UID:23673c7be828dd57f56d410ca7bdad66
CREATED;VALUE=DATE-TIME:20040814T000000Z
ORGANIZER:Agrupació Fotogràfica d'Arenys de Mar, Regidoria de Cultura i Federació Catalana de Fotografia
COMMENT:Durada: fins al 16 d'agost de 2004
URL:https://arenysdemar.cat/document.php?id=13387
END:VEVENT
END:VCALENDAR