BEGIN:VCALENDAR
VERSION:2.0
PRODID:-//Plone.org//NONSGML plone.app.event//EN
X-WR-TIMEZONE:Europe/Madrid
BEGIN:VEVENT
SUMMARY:Trobada de gegants
DTSTART;TZID=Europe/Madrid;VALUE=DATE-TIME:20040710T184500
DTEND;TZID=Europe/Madrid;VALUE=DATE-TIME:20040710T194500
DTSTAMP;VALUE=DATE-TIME:20260424T130653Z
UID:8332cf61f1f94cf51b29083326d8d8fe
CREATED;VALUE=DATE-TIME:20040710T000000Z
CATEGORIES:Festa
LOCATION:Riera davant del Calisay
ORGANIZER:Ass. de Geganters d'Arenys de Mar i Regidoria de Cultura
DESCRIPTION:Sant Zenon 2004
URL:https://arenysdemar.cat/document.php?id=13400
END:VEVENT
END:VCALENDAR