BEGIN:VCALENDAR
VERSION:2.0
PRODID:-//Plone.org//NONSGML plone.app.event//EN
X-WR-TIMEZONE:Europe/Madrid
BEGIN:VEVENT
SUMMARY:Audició de sardanes a càrrec de la Cobla Marina
DTSTART;TZID=Europe/Madrid;VALUE=DATE-TIME:20040710T190000
DTEND;TZID=Europe/Madrid;VALUE=DATE-TIME:20040710T200000
DTSTAMP;VALUE=DATE-TIME:20260424T125843Z
UID:cc92df149f01c8171552186899183061
CREATED;VALUE=DATE-TIME:20040710T000000Z
CATEGORIES:Dansa,Música
LOCATION:Calisay/Pati
ORGANIZER:Reg. de Cultura
DESCRIPTION:Sant Zenon 2004
URL:https://arenysdemar.cat/document.php?id=13415
END:VEVENT
END:VCALENDAR