BEGIN:VCALENDAR
VERSION:2.0
PRODID:-//Plone.org//NONSGML plone.app.event//EN
X-WR-TIMEZONE:Europe/Madrid
BEGIN:VEVENT
SUMMARY:Concert de Festa Major a càrrec de l'Orquestra Marina
DTSTART;TZID=Europe/Madrid;VALUE=DATE-TIME:20040710T203000
DTEND;TZID=Europe/Madrid;VALUE=DATE-TIME:20040710T213000
DTSTAMP;VALUE=DATE-TIME:20260424T143937Z
UID:7f80f81812647d7e86fde6ffa3dbbc22
CREATED;VALUE=DATE-TIME:20040710T000000Z
CATEGORIES:Festa
LOCATION:Riera/Xifré
ORGANIZER:Regidoria de Cultura
DESCRIPTION:Sant Zenon 2004
URL:https://arenysdemar.cat/document.php?id=13419
END:VEVENT
END:VCALENDAR