BEGIN:VCALENDAR
VERSION:2.0
PRODID:-//Plone.org//NONSGML plone.app.event//EN
X-WR-TIMEZONE:Europe/Madrid
BEGIN:VEVENT
SUMMARY:Teatre de carrer amb el grup Xirriquiteula: Contes del cel
DTSTART;TZID=Europe/Madrid;VALUE=DATE-TIME:20040710T224500
DTEND;TZID=Europe/Madrid;VALUE=DATE-TIME:20040710T234500
DTSTAMP;VALUE=DATE-TIME:20260424T195749Z
UID:3d70b90cc5864565bf6f0cbda6c7fc7a
CREATED;VALUE=DATE-TIME:20040710T000000Z
CATEGORIES:Teatre
LOCATION:Plaça de l'Església
ORGANIZER:Reg. de Cultura
DESCRIPTION:Sant Zenon 2004
URL:https://arenysdemar.cat/document.php?id=13421
END:VEVENT
END:VCALENDAR