BEGIN:VCALENDAR
VERSION:2.0
PRODID:-//Plone.org//NONSGML plone.app.event//EN
X-WR-TIMEZONE:Europe/Madrid
BEGIN:VEVENT
SUMMARY:Contes infantils a càrrec d'Albert Estengre
DTSTART;TZID=Europe/Madrid;VALUE=DATE-TIME:20040711T183000
DTEND;TZID=Europe/Madrid;VALUE=DATE-TIME:20040711T193000
DTSTAMP;VALUE=DATE-TIME:20260424T182750Z
UID:3893b9bc5efc0c79322bbe6a84bf05b7
CREATED;VALUE=DATE-TIME:20040711T000000Z
CATEGORIES:Festa
LOCATION:Plaça Mare Paula Montalt
ORGANIZER:Reg. de Cultura
DESCRIPTION:ESPECTACLE SUSPÈS
URL:https://arenysdemar.cat/document.php?id=13424
END:VEVENT
END:VCALENDAR