BEGIN:VCALENDAR
VERSION:2.0
PRODID:-//Plone.org//NONSGML plone.app.event//EN
X-WR-TIMEZONE:Europe/Madrid
BEGIN:VEVENT
SUMMARY:Teatre Audiència I-Real amb Toni Albà
DTSTART;TZID=Europe/Madrid;VALUE=DATE-TIME:20040711T230000
DTEND;TZID=Europe/Madrid;VALUE=DATE-TIME:20040712T000000
DTSTAMP;VALUE=DATE-TIME:20260424T125920Z
UID:454dc817193cce54e4b0e85a5e8cd654
CREATED;VALUE=DATE-TIME:20040711T000000Z
CATEGORIES:Teatre
LOCATION:Calisay/Pati
ORGANIZER:Reg. de Cultura
COMMENT:Preu: 6 &euro;
DESCRIPTION:Sant Zenon 2004
URL:https://arenysdemar.cat/document.php?id=13427
END:VEVENT
END:VCALENDAR