BEGIN:VCALENDAR
VERSION:2.0
PRODID:-//Plone.org//NONSGML plone.app.event//EN
X-WR-TIMEZONE:Europe/Madrid
BEGIN:VEVENT
SUMMARY:Mostra de Titelles
DTSTART;TZID=Europe/Madrid;VALUE=DATE-TIME:20040717T190000
DTEND;TZID=Europe/Madrid;VALUE=DATE-TIME:20040717T200000
DTSTAMP;VALUE=DATE-TIME:20260424T214212Z
UID:88f8806233abb59a27ae8457b429f8ce
CREATED;VALUE=DATE-TIME:20040717T000000Z
CATEGORIES:Mostra,Infantils,Teatre
LOCATION:Calisay/Pati
ORGANIZER:Reg. de Cultura i Binixiflat Teatre
COMMENT:Preu: Tarda: 3 &euro;, Nit: 4 &euro; , Tarda i nit: 5 &euro;
DESCRIPTION:Pinotxo titella a càrrec de Lluerna teatre de València
URL:https://arenysdemar.cat/document.php?id=13429
END:VEVENT
END:VCALENDAR