BEGIN:VCALENDAR
VERSION:2.0
PRODID:-//Plone.org//NONSGML plone.app.event//EN
X-WR-TIMEZONE:Europe/Madrid
BEGIN:VEVENT
SUMMARY:XXX Concurs infantil de pesca
DTSTART;TZID=Europe/Madrid;VALUE=DATE-TIME:20040711T100000
DTEND;TZID=Europe/Madrid;VALUE=DATE-TIME:20040711T110000
DTSTAMP;VALUE=DATE-TIME:20260424T094020Z
UID:5e8e9c0dc2d60377f1eabf5d69f87e70
CREATED;VALUE=DATE-TIME:20040711T000000Z
CATEGORIES:Esports,Infantils
LOCATION:Instal·lacions del Club de Pesca Mar Sport
ORGANIZER:Club de Pesca Mar Sport
COMMENT:Preu: Gratuït
DESCRIPTION:Sant Zenon 2004
URL:https://arenysdemar.cat/document.php?id=13456
END:VEVENT
END:VCALENDAR