BEGIN:VCALENDAR
VERSION:2.0
PRODID:-//Plone.org//NONSGML plone.app.event//EN
X-WR-TIMEZONE:Europe/Madrid
BEGIN:VEVENT
SUMMARY:III Torneig de Bàsquet de Sant Zenon
DTSTART;TZID=Europe/Madrid;VALUE=DATE-TIME:20040710T090000
DTEND;TZID=Europe/Madrid;VALUE=DATE-TIME:20040710T100000
DTSTAMP;VALUE=DATE-TIME:20260424T113309Z
UID:98afabda8775d884160994767502e702
CREATED;VALUE=DATE-TIME:20040710T000000Z
CATEGORIES:Esports
LOCATION:C.E. Fons de les Creus
ORGANIZER:Club Bàsquet Pósit d'Arenys
COMMENT:Durada: 10 i 11de juliol
DESCRIPTION:Sant Zenon 2004
URL:https://arenysdemar.cat/document.php?id=13499
END:VEVENT
END:VCALENDAR