BEGIN:VCALENDAR
VERSION:2.0
PRODID:-//Plone.org//NONSGML plone.app.event//EN
X-WR-TIMEZONE:Europe/Madrid
BEGIN:VEVENT
SUMMARY:24 Hores de Bàsquetbol
DTSTART;TZID=Europe/Madrid;VALUE=DATE-TIME:20040724T090000
DTEND;TZID=Europe/Madrid;VALUE=DATE-TIME:20040724T100000
DTSTAMP;VALUE=DATE-TIME:20260424T112255Z
UID:dee1406fd6ef0c5e8293b40e0af55ed6
CREATED;VALUE=DATE-TIME:20040724T000000Z
CATEGORIES:Esports
LOCATION:C.E. Fons de les Creus
ORGANIZER:Club Arenys Bàsquet
COMMENT:Durada: fins al 25 de juliol
URL:https://arenysdemar.cat/document.php?id=13513
END:VEVENT
END:VCALENDAR