BEGIN:VCALENDAR
VERSION:2.0
PRODID:-//Plone.org//NONSGML plone.app.event//EN
X-WR-TIMEZONE:Europe/Madrid
BEGIN:VEVENT
SUMMARY:Biblioplatja: taller de cuina per a infants
DTSTART;TZID=Europe/Madrid;VALUE=DATE-TIME:20040807T110000
DTEND;TZID=Europe/Madrid;VALUE=DATE-TIME:20040807T120000
DTSTAMP;VALUE=DATE-TIME:20260424T163255Z
UID:d00c2b83a5ea416f56808f2706b88b5d
CREATED;VALUE=DATE-TIME:20040807T000000Z
CATEGORIES:Infantils
LOCATION:Biblioplatja
ORGANIZER:Biblioteca - Regidoria de Cultura
DESCRIPTION:A càrrec de Mercè Mora
URL:https://arenysdemar.cat/document.php?id=13553
END:VEVENT
END:VCALENDAR