BEGIN:VCALENDAR
VERSION:2.0
PRODID:-//Plone.org//NONSGML plone.app.event//EN
X-WR-TIMEZONE:Europe/Madrid
BEGIN:VEVENT
SUMMARY:Biblioplatja: demostració de cuina d'estiu
DTSTART;TZID=Europe/Madrid;VALUE=DATE-TIME:20040820T190000
DTEND;TZID=Europe/Madrid;VALUE=DATE-TIME:20040820T200000
DTSTAMP;VALUE=DATE-TIME:20260424T231438Z
UID:1c77c2409bc2bfca8f7f7616cd08a2e3
CREATED;VALUE=DATE-TIME:20040820T000000Z
CATEGORIES:Mostra
LOCATION:Biblioplatja
ORGANIZER:Biblioteca - Regidoria de Cultura
DESCRIPTION:A càrrec de Mercè Mora
URL:https://arenysdemar.cat/document.php?id=13554
END:VEVENT
END:VCALENDAR