BEGIN:VCALENDAR
VERSION:2.0
PRODID:-//Plone.org//NONSGML plone.app.event//EN
X-WR-TIMEZONE:Europe/Madrid
BEGIN:VEVENT
SUMMARY:Biblioplatja: hora del conte i taller
DTSTART;TZID=Europe/Madrid;VALUE=DATE-TIME:20040812T183000
DTEND;TZID=Europe/Madrid;VALUE=DATE-TIME:20040812T193000
DTSTAMP;VALUE=DATE-TIME:20260424T213613Z
UID:f1bd3f35d4cfc395c8e421fe3d6f17ef
CREATED;VALUE=DATE-TIME:20040812T000000Z
CATEGORIES:Infantils
LOCATION:Biblioplatja
ORGANIZER:Biblioteca - Regidoria de Cultura
DESCRIPTION:La princesa, a càrrec de Fina Gelpí
URL:https://arenysdemar.cat/document.php?id=13558
END:VEVENT
END:VCALENDAR