BEGIN:VCALENDAR
VERSION:2.0
PRODID:-//Plone.org//NONSGML plone.app.event//EN
X-WR-TIMEZONE:Europe/Madrid
BEGIN:VEVENT
SUMMARY:Festival d'estiu de narració oral
DTSTART;TZID=Europe/Madrid;VALUE=DATE-TIME:20040804T220000
DTEND;TZID=Europe/Madrid;VALUE=DATE-TIME:20040804T230000
DTSTAMP;VALUE=DATE-TIME:20260424T231411Z
UID:574f0ebce1a8e5b5a3f27dba59a52afe
CREATED;VALUE=DATE-TIME:20040804T000000Z
CATEGORIES:Literatura
LOCATION:Biblioplatja
ORGANIZER:Biblioteca - Regidoria de Cultura
DESCRIPTION:A càrrec de l'argentí Mario Satz (narració en castellà)
URL:https://arenysdemar.cat/document.php?id=13570
END:VEVENT
END:VCALENDAR