BEGIN:VCALENDAR
VERSION:2.0
PRODID:-//Plone.org//NONSGML plone.app.event//EN
X-WR-TIMEZONE:Europe/Madrid
BEGIN:VEVENT
SUMMARY:Festival d'estiu de narració oral
DTSTART;TZID=Europe/Madrid;VALUE=DATE-TIME:20040811T210000
DTEND;TZID=Europe/Madrid;VALUE=DATE-TIME:20040811T220000
DTSTAMP;VALUE=DATE-TIME:20260425T011055Z
UID:54e8bc8ac8bf6a851ecd0e0fe19d77ab
CREATED;VALUE=DATE-TIME:20040811T000000Z
CATEGORIES:Literatura
LOCATION:Port
ORGANIZER:Biblioteca - Regidoria de Cultura
COMMENT:Preu: 10 euros. Inscripcions a la biblioteca
DESCRIPTION:Contes per a adults passejant amb golondrina, a càrrec de Noemí Caballer (narració en català i castellà)
URL:https://arenysdemar.cat/document.php?id=13571
END:VEVENT
END:VCALENDAR