BEGIN:VCALENDAR
VERSION:2.0
PRODID:-//Plone.org//NONSGML plone.app.event//EN
X-WR-TIMEZONE:Europe/Madrid
BEGIN:VEVENT
SUMMARY:Nits Joves amb Skafam, Deskarats i Lord Kaya
DTSTART;TZID=Europe/Madrid;VALUE=DATE-TIME:20040709T235900
DTEND;TZID=Europe/Madrid;VALUE=DATE-TIME:20040710T005900
DTSTAMP;VALUE=DATE-TIME:20260424T043157Z
UID:285e6543a5ef43e7cefcc2871287d0a7
CREATED;VALUE=DATE-TIME:20040709T000000Z
CATEGORIES:Música
LOCATION:Camp de Futbol Bernat Coll
ORGANIZER:Reg. de Joventut, Ass. de geganters, KAFA i Arenys amb el Poble Saharauí
DESCRIPTION:Sant Zenon 2004
URL:https://arenysdemar.cat/document.php?id=13581
END:VEVENT
END:VCALENDAR