BEGIN:VCALENDAR
VERSION:2.0
PRODID:-//Plone.org//NONSGML plone.app.event//EN
X-WR-TIMEZONE:Europe/Madrid
BEGIN:VEVENT
SUMMARY:Exposició d'olis
DTSTART;TZID=Europe/Madrid;VALUE=DATE-TIME:20040903T180000
DTEND;TZID=Europe/Madrid;VALUE=DATE-TIME:20040903T190000
DTSTAMP;VALUE=DATE-TIME:20260422T121310Z
UID:b33662d0dbfabbe3c6792f75ef291244
CREATED;VALUE=DATE-TIME:20040903T000000Z
CATEGORIES:Exposició
LOCATION:Sala exposicions Lloveras
ORGANIZER:Regidoria de Cultura
COMMENT:Durada: fins al 26 de setembre de 2004
DESCRIPTION:Naturaleza y Rincones de M. Victòria Ibáñez Teruel
URL:https://arenysdemar.cat/document.php?id=13607
END:VEVENT
END:VCALENDAR