BEGIN:VCALENDAR
VERSION:2.0
PRODID:-//Plone.org//NONSGML plone.app.event//EN
X-WR-TIMEZONE:Europe/Madrid
BEGIN:VEVENT
SUMMARY:Nit d'havaneres amb el grup Desplega Veles
DTSTART;TZID=Europe/Madrid;VALUE=DATE-TIME:20040816T230000
DTEND;TZID=Europe/Madrid;VALUE=DATE-TIME:20040817T000000
DTSTAMP;VALUE=DATE-TIME:20260425T011403Z
UID:d623db2ca63c239a8fb98ac91d6c533c
CREATED;VALUE=DATE-TIME:20040816T000000Z
CATEGORIES:Música
LOCATION:Plaça de les Palmeres
ORGANIZER:Reg. de Cultura i OCR
DESCRIPTION:Sant Roc 2004
URL:https://arenysdemar.cat/document.php?id=13615
END:VEVENT
END:VCALENDAR