BEGIN:VCALENDAR
VERSION:2.0
PRODID:-//Plone.org//NONSGML plone.app.event//EN
X-WR-TIMEZONE:Europe/Madrid
BEGIN:VEVENT
SUMMARY:Torneig 2x2 mixte Volei Arenys
DTSTART;TZID=Europe/Madrid;VALUE=DATE-TIME:20040828T090000
DTEND;TZID=Europe/Madrid;VALUE=DATE-TIME:20040828T100000
DTSTAMP;VALUE=DATE-TIME:20260425T012249Z
UID:b13aa12449c7979089fd96c8e8e403d7
CREATED;VALUE=DATE-TIME:20040828T000000Z
CATEGORIES:Esports
LOCATION:Platja Picòrdia (1ª Platja)
ORGANIZER:Associació Volei Arenys
COMMENT:Durada: fins al 29
URL:https://arenysdemar.cat/document.php?id=13618
END:VEVENT
END:VCALENDAR