BEGIN:VCALENDAR
VERSION:2.0
PRODID:-//Plone.org//NONSGML plone.app.event//EN
X-WR-TIMEZONE:Europe/Madrid
BEGIN:VEVENT
SUMMARY:Torneig 4X4 Volei Arenys
DTSTART;TZID=Europe/Madrid;VALUE=DATE-TIME:20040725T090000
DTEND;TZID=Europe/Madrid;VALUE=DATE-TIME:20040725T100000
DTSTAMP;VALUE=DATE-TIME:20260424T094115Z
UID:4ed507f4fd71b0e7a526ffab1648c85d
CREATED;VALUE=DATE-TIME:20040725T000000Z
CATEGORIES:Esports
LOCATION:Platja Picòrdia (1ª Platja)
ORGANIZER:Associació Volei Arenys
URL:https://arenysdemar.cat/document.php?id=13619
END:VEVENT
END:VCALENDAR