BEGIN:VCALENDAR
VERSION:2.0
PRODID:-//Plone.org//NONSGML plone.app.event//EN
X-WR-TIMEZONE:Europe/Madrid
BEGIN:VEVENT
SUMMARY:Musclada Popular
DTSTART;TZID=Europe/Madrid;VALUE=DATE-TIME:20040815T203000
DTEND;TZID=Europe/Madrid;VALUE=DATE-TIME:20040815T213000
DTSTAMP;VALUE=DATE-TIME:20260424T195935Z
UID:760a7312109d0e10a960e185e5c21bf1
CREATED;VALUE=DATE-TIME:20040815T000000Z
CATEGORIES:Mostra
LOCATION:Plaça de l'Església
ORGANIZER:Reg. de Cultura i Fundació Anna Sáez
DESCRIPTION:Sant Roc 2004
URL:https://arenysdemar.cat/document.php?id=13644
END:VEVENT
END:VCALENDAR