BEGIN:VCALENDAR
VERSION:2.0
PRODID:-//Plone.org//NONSGML plone.app.event//EN
X-WR-TIMEZONE:Europe/Madrid
BEGIN:VEVENT
SUMMARY:Concert Alternatiu
DTSTART;TZID=Europe/Madrid;VALUE=DATE-TIME:20040728T210000
DTEND;TZID=Europe/Madrid;VALUE=DATE-TIME:20040728T220000
DTSTAMP;VALUE=DATE-TIME:20260424T093949Z
UID:e7da04ceed4df51ccb45880880563e50
CREATED;VALUE=DATE-TIME:20040728T000000Z
CATEGORIES:Música
LOCATION:Calisay/Sala polivalent
ORGANIZER:JERC
COMMENT:Preu: 4 &euro; amb got
DESCRIPTION:amb els grups Plaka, Ska Jamaicà i Bron-k
URL:https://arenysdemar.cat/document.php?id=13648
END:VEVENT
END:VCALENDAR