BEGIN:VCALENDAR
VERSION:2.0
PRODID:-//Plone.org//NONSGML plone.app.event//EN
X-WR-TIMEZONE:Europe/Madrid
BEGIN:VEVENT
SUMMARY:Inici de l'hora del conte
DTSTART;TZID=Europe/Madrid;VALUE=DATE-TIME:20040930T180000
DTEND;TZID=Europe/Madrid;VALUE=DATE-TIME:20040930T190000
DTSTAMP;VALUE=DATE-TIME:20260422T051436Z
UID:6abacf94c2abdef444a7bb00a5dd326d
CREATED;VALUE=DATE-TIME:20040930T000000Z
CATEGORIES:Literatura
LOCATION:Biblioteca
ORGANIZER:Biblioteca i Regidoria de Cultura
DESCRIPTION:Tintinventari: Tintín a la Biblioteca, a càrrec de Salvador Boix
URL:https://arenysdemar.cat/document.php?id=13649
END:VEVENT
END:VCALENDAR