BEGIN:VCALENDAR
VERSION:2.0
PRODID:-//Plone.org//NONSGML plone.app.event//EN
X-WR-TIMEZONE:Europe/Madrid
BEGIN:VEVENT
SUMMARY:24 Hores de Futbol Sala
DTSTART;TZID=Europe/Madrid;VALUE=DATE-TIME:20040813T200000
DTEND;TZID=Europe/Madrid;VALUE=DATE-TIME:20040813T210000
DTSTAMP;VALUE=DATE-TIME:20260424T231453Z
UID:d432439b3549940480b5556000b3b474
CREATED;VALUE=DATE-TIME:20040813T000000Z
LOCATION:Pistes del Joan Maragall
ORGANIZER:Amics del Futbol Sala. Col·labora l'OAM d'Esports
COMMENT:Durada: fins al dissabte 14 d'agost
URL:https://arenysdemar.cat/document.php?id=13664
END:VEVENT
END:VCALENDAR