BEGIN:VCALENDAR
VERSION:2.0
PRODID:-//Plone.org//NONSGML plone.app.event//EN
X-WR-TIMEZONE:Europe/Madrid
BEGIN:VEVENT
SUMMARY:Partit de Futbol categoria juvenils: CF Arenys de Mar-CF Llagostera
DTSTART;TZID=Europe/Madrid;VALUE=DATE-TIME:20040816T190000
DTEND;TZID=Europe/Madrid;VALUE=DATE-TIME:20040816T200000
DTSTAMP;VALUE=DATE-TIME:20260425T031245Z
UID:901d9db86f41a464d92c94b1b4aa86bf
CREATED;VALUE=DATE-TIME:20040816T000000Z
CATEGORIES:Esports
LOCATION:Camp Municipal d'Esports Bernat Coll
ORGANIZER:CF Arenys de Mar
DESCRIPTION:Sant Roc 2004
URL:https://arenysdemar.cat/document.php?id=13668
END:VEVENT
END:VCALENDAR