BEGIN:VCALENDAR
VERSION:2.0
PRODID:-//Plone.org//NONSGML plone.app.event//EN
X-WR-TIMEZONE:Europe/Madrid
BEGIN:VEVENT
SUMMARY:Travessa nedant al Port d'Arenys
DTSTART;TZID=Europe/Madrid;VALUE=DATE-TIME:20040911T110000
DTEND;TZID=Europe/Madrid;VALUE=DATE-TIME:20040911T120000
DTSTAMP;VALUE=DATE-TIME:20260424T133359Z
UID:4d1a11ce5c6a697abdba5442f91f0ca9
CREATED;VALUE=DATE-TIME:20040911T000000Z
CATEGORIES:Esports
LOCATION:Port
ORGANIZER:Unió de Federacions Esportives de Catalunya (UFEC)
URL:https://arenysdemar.cat/document.php?id=13676
END:VEVENT
END:VCALENDAR