BEGIN:VCALENDAR
VERSION:2.0
PRODID:-//Plone.org//NONSGML plone.app.event//EN
X-WR-TIMEZONE:Europe/Madrid
BEGIN:VEVENT
SUMMARY:IX Jornades Gastronòmiques del Calamarenys
DTSTART;TZID=Europe/Madrid;VALUE=DATE-TIME:20041015T200000
DTEND;TZID=Europe/Madrid;VALUE=DATE-TIME:20041015T210000
DTSTAMP;VALUE=DATE-TIME:20260424T121402Z
UID:9e8145958e80021ce0b575071e44847a
CREATED;VALUE=DATE-TIME:20041015T000000Z
CATEGORIES:Mostra
LOCATION:Calisay/Sala polivalent
ORGANIZER:Reg. Promoció Econòmica i Ass. de Restauradors
DESCRIPTION:Degustació popular
URL:https://arenysdemar.cat/document.php?id=13686
END:VEVENT
END:VCALENDAR