BEGIN:VCALENDAR
VERSION:2.0
PRODID:-//Plone.org//NONSGML plone.app.event//EN
X-WR-TIMEZONE:Europe/Madrid
BEGIN:VEVENT
SUMMARY:Concert amb la Companyia Elèctrica Dharma
DTSTART;TZID=Europe/Madrid;VALUE=DATE-TIME:20040917T235900
DTEND;TZID=Europe/Madrid;VALUE=DATE-TIME:20040918T005900
DTSTAMP;VALUE=DATE-TIME:20260422T111800Z
UID:8150d61924a125058dcea90bcfa8796d
CREATED;VALUE=DATE-TIME:20040917T000000Z
CATEGORIES:Música
LOCATION:Riera, davant el Xifré
ORGANIZER:Ràdio Arenys
DESCRIPTION:25 anys de Ràdio Arenys
URL:https://arenysdemar.cat/document.php?id=13694
END:VEVENT
END:VCALENDAR