BEGIN:VCALENDAR
VERSION:2.0
PRODID:-//Plone.org//NONSGML plone.app.event//EN
X-WR-TIMEZONE:Europe/Madrid
BEGIN:VEVENT
SUMMARY:Sopar de gala
DTSTART;TZID=Europe/Madrid;VALUE=DATE-TIME:20040917T220000
DTEND;TZID=Europe/Madrid;VALUE=DATE-TIME:20040917T230000
DTSTAMP;VALUE=DATE-TIME:20260422T111158Z
UID:f8efc683cf264fae8442a9c52dd0ada7
CREATED;VALUE=DATE-TIME:20040917T000000Z
CATEGORIES:Festa
LOCATION:Calisay/Sala polivalent
ORGANIZER:Ràdio Arenys
COMMENT:Preu: 15 Euros
DESCRIPTION:25 anys de Ràdio Arenys
URL:https://arenysdemar.cat/document.php?id=13695
END:VEVENT
END:VCALENDAR