BEGIN:VCALENDAR
VERSION:2.0
PRODID:-//Plone.org//NONSGML plone.app.event//EN
X-WR-TIMEZONE:Europe/Madrid
BEGIN:VEVENT
SUMMARY:Conferència
DTSTART;TZID=Europe/Madrid;VALUE=DATE-TIME:20041111T190000
DTEND;TZID=Europe/Madrid;VALUE=DATE-TIME:20041111T200000
DTSTAMP;VALUE=DATE-TIME:20260422T111224Z
UID:20cd33cbef85f8a16e44812159fdd14d
CREATED;VALUE=DATE-TIME:20041111T000000Z
CATEGORIES:Conferència
LOCATION:Museu Mineralogia
ORGANIZER:Museu d'Arenys de Mar
COMMENT:Preu: Gratuït
DESCRIPTION:El Pol Nord: un laboratori del futur del planeta a càrrec de Francina Sintas i Clara Coll becades per l'Institut Polar Norueg.
URL:https://arenysdemar.cat/document.php?id=13696
END:VEVENT
END:VCALENDAR