BEGIN:VCALENDAR
VERSION:2.0
PRODID:-//Plone.org//NONSGML plone.app.event//EN
X-WR-TIMEZONE:Europe/Madrid
BEGIN:VEVENT
SUMMARY:Jornada de portes obertes
DTSTART;TZID=Europe/Madrid;VALUE=DATE-TIME:20041107T000000
DTEND;TZID=Europe/Madrid;VALUE=DATE-TIME:20041107T010000
DTSTAMP;VALUE=DATE-TIME:20260422T015029Z
UID:afed6a6907f4bea9b1b79d2689daa1e9
CREATED;VALUE=DATE-TIME:20041107T000000Z
CATEGORIES:Mostra
LOCATION:Museu Mineralogia
ORGANIZER:Museu d'Arenys de Mar
COMMENT:Preu: Gratuït
Durada: També el 14 de novembre de 2004
DESCRIPTION:al Museu de Mineralogia
URL:https://arenysdemar.cat/document.php?id=13697
END:VEVENT
END:VCALENDAR