BEGIN:VCALENDAR
VERSION:2.0
PRODID:-//Plone.org//NONSGML plone.app.event//EN
X-WR-TIMEZONE:Europe/Madrid
BEGIN:VEVENT
SUMMARY:Hora del conte
DTSTART;TZID=Europe/Madrid;VALUE=DATE-TIME:20041007T180000
DTEND;TZID=Europe/Madrid;VALUE=DATE-TIME:20041007T190000
DTSTAMP;VALUE=DATE-TIME:20260422T032554Z
UID:3a2ab70f752552bd1c034cf59ef44899
CREATED;VALUE=DATE-TIME:20041007T000000Z
CATEGORIES:Infantils
LOCATION:Biblioteca
ORGANIZER:Biblioteca - Regidoria de Cultura
DESCRIPTION:Els follets sabaters a càrrec d'Anna Danès
URL:https://arenysdemar.cat/document.php?id=13715
END:VEVENT
END:VCALENDAR