BEGIN:VCALENDAR
VERSION:2.0
PRODID:-//Plone.org//NONSGML plone.app.event//EN
X-WR-TIMEZONE:Europe/Madrid
BEGIN:VEVENT
SUMMARY:Hora del conte
DTSTART;TZID=Europe/Madrid;VALUE=DATE-TIME:20041014T180000
DTEND;TZID=Europe/Madrid;VALUE=DATE-TIME:20041014T190000
DTSTAMP;VALUE=DATE-TIME:20260422T032506Z
UID:bd9968b1a47103bdae709d0125ea9676
CREATED;VALUE=DATE-TIME:20041014T000000Z
CATEGORIES:Infantils
LOCATION:Biblioteca
ORGANIZER:Biblioteca - Regidoria de Cultura
URL:https://arenysdemar.cat/document.php?id=13716
END:VEVENT
END:VCALENDAR