BEGIN:VCALENDAR
VERSION:2.0
PRODID:-//Plone.org//NONSGML plone.app.event//EN
X-WR-TIMEZONE:Europe/Madrid
BEGIN:VEVENT
SUMMARY:Gimkana radiofònica infantil
DTSTART;TZID=Europe/Madrid;VALUE=DATE-TIME:20040918T163000
DTEND;TZID=Europe/Madrid;VALUE=DATE-TIME:20040918T173000
DTSTAMP;VALUE=DATE-TIME:20260422T111055Z
UID:5b013ac4cfcada1981d2330a73811e90
CREATED;VALUE=DATE-TIME:20040918T000000Z
CATEGORIES:Festa,Infantils
LOCATION:Calisay/Pati
ORGANIZER:Ràdio Arenys, AEG Flos i Calcat, Floc. Centre d'Esplai i Cau Sant Francesc
DESCRIPTION:25 anys de Ràdio Arenys
URL:https://arenysdemar.cat/document.php?id=13734
END:VEVENT
END:VCALENDAR