BEGIN:VCALENDAR
VERSION:2.0
PRODID:-//Plone.org//NONSGML plone.app.event//EN
X-WR-TIMEZONE:Europe/Madrid
BEGIN:VEVENT
SUMMARY:Petxinada popular
DTSTART;TZID=Europe/Madrid;VALUE=DATE-TIME:20040919T123000
DTEND;TZID=Europe/Madrid;VALUE=DATE-TIME:20040919T133000
DTSTAMP;VALUE=DATE-TIME:20260422T091941Z
UID:8c2f8aa8266855bed2c37f9bb6acbd3f
CREATED;VALUE=DATE-TIME:20040919T000000Z
CATEGORIES:Festa
LOCATION:Calisay/Pati
ORGANIZER:Ràdio Arenys i Confraria de Pescadors d'Arenys de Mar
COMMENT:Preu: 2 &euro;
DESCRIPTION:25 anys de Ràdio Arenys
URL:https://arenysdemar.cat/document.php?id=13735
END:VEVENT
END:VCALENDAR