BEGIN:VCALENDAR
VERSION:2.0
PRODID:-//Plone.org//NONSGML plone.app.event//EN
X-WR-TIMEZONE:Europe/Madrid
BEGIN:VEVENT
SUMMARY:Ball a l'Ateneu
DTSTART;TZID=Europe/Madrid;VALUE=DATE-TIME:20041002T223000
DTEND;TZID=Europe/Madrid;VALUE=DATE-TIME:20041002T233000
DTSTAMP;VALUE=DATE-TIME:20260423T132921Z
UID:7101a123a565b2e4b6ca9fe54a30dc3c
CREATED;VALUE=DATE-TIME:20041002T000000Z
CATEGORIES:Festa,Música
LOCATION:a l' Ateneu Arenyenc
ORGANIZER:Ateneu Arenyenc
DESCRIPTION:Amb el grup Que Tal
URL:https://arenysdemar.cat/document.php?id=13737
END:VEVENT
END:VCALENDAR