BEGIN:VCALENDAR
VERSION:2.0
PRODID:-//Plone.org//NONSGML plone.app.event//EN
X-WR-TIMEZONE:Europe/Madrid
BEGIN:VEVENT
SUMMARY:Ball a l'Ateneu
DTSTART;TZID=Europe/Madrid;VALUE=DATE-TIME:20041016T223000
DTEND;TZID=Europe/Madrid;VALUE=DATE-TIME:20041016T233000
DTSTAMP;VALUE=DATE-TIME:20260424T024647Z
UID:c2323006604f47b8a81f922e148f70fd
CREATED;VALUE=DATE-TIME:20041016T000000Z
CATEGORIES:Festa
LOCATION:a l'Ateneu Arenyenc
ORGANIZER:Ateneu Arenyenc
DESCRIPTION:amb el Duet Costa Brava
URL:https://arenysdemar.cat/document.php?id=13738
END:VEVENT
END:VCALENDAR