BEGIN:VCALENDAR
VERSION:2.0
PRODID:-//Plone.org//NONSGML plone.app.event//EN
X-WR-TIMEZONE:Europe/Madrid
BEGIN:VEVENT
SUMMARY:Xocolatada popular
DTSTART;TZID=Europe/Madrid;VALUE=DATE-TIME:20040918T183000
DTEND;TZID=Europe/Madrid;VALUE=DATE-TIME:20040918T193000
DTSTAMP;VALUE=DATE-TIME:20260422T111914Z
UID:d77505a38e0150469392f275add6977a
CREATED;VALUE=DATE-TIME:20040918T000000Z
CATEGORIES:Festa,Infantils
LOCATION:Calisay/Pati
ORGANIZER:Ràdio Arenys
DESCRIPTION:25 anys de Ràdio Arenys
URL:https://arenysdemar.cat/document.php?id=13743
END:VEVENT
END:VCALENDAR